BEGIN:VCALENDAR
VERSION:2.0
PRODID:-//Lynden School District - ECPv6.3.2//NONSGML v1.0//EN
CALSCALE:GREGORIAN
METHOD:PUBLISH
X-WR-CALNAME:Lynden School District
X-ORIGINAL-URL:https://lyndenschools.wp.eresources.ws
X-WR-CALDESC:Events for Lynden School District
REFRESH-INTERVAL;VALUE=DURATION:PT1H
X-Robots-Tag:noindex
X-PUBLISHED-TTL:PT1H
BEGIN:VTIMEZONE
TZID:America/New_York
BEGIN:DAYLIGHT
TZOFFSETFROM:-0500
TZOFFSETTO:-0400
TZNAME:EDT
DTSTART:20220313T070000
END:DAYLIGHT
BEGIN:STANDARD
TZOFFSETFROM:-0400
TZOFFSETTO:-0500
TZNAME:EST
DTSTART:20221106T060000
END:STANDARD
END:VTIMEZONE
BEGIN:VEVENT
DTSTART;VALUE=DATE:20220603
DTEND;VALUE=DATE:20220604
DTSTAMP:20260422T184055
CREATED:20220608T210104Z
LAST-MODIFIED:20220609T153549Z
UID:717-1654214400-1654300799@lyndenschools.wp.eresources.ws
SUMMARY:Conferences - No Onsite Classes (At Home Hours Required)
DESCRIPTION:
URL:https://lyndenschools.wp.eresources.ws/event/conferences-no-onsite-classes-at-home-hours-required/
CATEGORIES:Lynden Academy
ORGANIZER;CN="Wendy Neff":MAILTO:neffw@lynden.wednet.edu
END:VEVENT
BEGIN:VEVENT
DTSTART;VALUE=DATE:20220603
DTEND;VALUE=DATE:20220604
DTSTAMP:20260422T184055
CREATED:20220608T210106Z
LAST-MODIFIED:20220609T153550Z
UID:718-1654214400-1654300799@lyndenschools.wp.eresources.ws
SUMMARY:Field Day
DESCRIPTION:
URL:https://lyndenschools.wp.eresources.ws/event/field-day/
CATEGORIES:Lynden Academy
ORGANIZER;CN="Wendy Neff":MAILTO:neffw@lynden.wednet.edu
END:VEVENT
BEGIN:VEVENT
DTSTART;TZID=America/New_York:20220609T190000
DTEND;TZID=America/New_York:20220609T210000
DTSTAMP:20260422T184055
CREATED:20220608T211236Z
LAST-MODIFIED:20220811T210146Z
UID:750-1654801200-1654808400@lyndenschools.wp.eresources.ws
SUMMARY:School Board Meeting
DESCRIPTION:6.9.22 Agenda
URL:https://lyndenschools.wp.eresources.ws/event/school-board-meeting-11/
CATEGORIES:Bernice Vossbeck Elementary,District,Fisher Elementary,Isom Elementary,Lynden Academy,Lynden High School,Lynden Inclusive Preschool,Lynden Middle School,School Board Meetings
END:VEVENT
BEGIN:VEVENT
DTSTART;VALUE=DATE:20220610
DTEND;VALUE=DATE:20220611
DTSTAMP:20260422T184055
CREATED:20220608T210108Z
LAST-MODIFIED:20220609T153550Z
UID:720-1654819200-1654905599@lyndenschools.wp.eresources.ws
SUMMARY:Conferences - No Onsite Classes (At Home Hours Required)
DESCRIPTION:
URL:https://lyndenschools.wp.eresources.ws/event/conferences-no-onsite-classes-at-home-hours-required-2/
CATEGORIES:Lynden Academy
ORGANIZER;CN="Wendy Neff":MAILTO:neffw@lynden.wednet.edu
END:VEVENT
BEGIN:VEVENT
DTSTART;VALUE=DATE:20220613
DTEND;VALUE=DATE:20220614
DTSTAMP:20260422T184055
CREATED:20220608T210109Z
LAST-MODIFIED:20220609T153550Z
UID:721-1655078400-1655164799@lyndenschools.wp.eresources.ws
SUMMARY:Conferences - No Onsite Classes (At Home Hours Required)
DESCRIPTION:
URL:https://lyndenschools.wp.eresources.ws/event/conferences-no-onsite-classes-at-home-hours-required-3/
CATEGORIES:Lynden Academy
ORGANIZER;CN="Wendy Neff":MAILTO:neffw@lynden.wednet.edu
END:VEVENT
BEGIN:VEVENT
DTSTART;TZID=America/New_York:20220623T190000
DTEND;TZID=America/New_York:20220623T210000
DTSTAMP:20260422T184055
CREATED:20220608T211437Z
LAST-MODIFIED:20220811T210355Z
UID:757-1656010800-1656018000@lyndenschools.wp.eresources.ws
SUMMARY:School Board Meeting
DESCRIPTION:6.23.22 Agenda
URL:https://lyndenschools.wp.eresources.ws/event/school-board-meeting-12/
CATEGORIES:Bernice Vossbeck Elementary,District,Fisher Elementary,Isom Elementary,Lynden Academy,Lynden High School,Lynden Inclusive Preschool,Lynden Middle School,School Board Meetings
END:VEVENT
END:VCALENDAR